BEGIN:VCALENDAR
VERSION:2.0
CALSCALE:GREGORIAN
PRODID:adamgibbons/ics
METHOD:PUBLISH
X-PUBLISHED-TTL:PT1H
BEGIN:VEVENT
UID:9526@calendari.cc
SUMMARY:JAM SESSION ACÙSTICA
DTSTAMP:20260421T233517Z
DTSTART:20260426T103000Z
URL:https://calendari.cc/event/jam-session-acustica
GEO:41.406;2.15676
LOCATION:Ateneu Llibertari de Gràcia - 5 B2\, Carrer de l'Alzina\, Gràcia\,
	 Barcelona\, 08024
STATUS:CONFIRMED
CATEGORIES:acte solidari,dinarVegà,Gràcia,jamsesion,Vermut
END:VEVENT
END:VCALENDAR
